BEGIN:VCALENDAR
VERSION:2.0
PRODID:-//Clone478 - ECPv6.15.20//NONSGML v1.0//EN
CALSCALE:GREGORIAN
METHOD:PUBLISH
X-WR-CALNAME:Clone478
X-ORIGINAL-URL:https://clone478.com
X-WR-CALDESC:Events for Clone478
REFRESH-INTERVAL;VALUE=DURATION:PT1H
X-Robots-Tag:noindex
X-PUBLISHED-TTL:PT1H
BEGIN:VTIMEZONE
TZID:UTC
BEGIN:STANDARD
TZOFFSETFROM:+0000
TZOFFSETTO:+0000
TZNAME:UTC
DTSTART:20200101T000000
END:STANDARD
END:VTIMEZONE
BEGIN:VEVENT
DTSTART;TZID=UTC:20221105T130000
DTEND;TZID=UTC:20221105T233000
DTSTAMP:20260419T151011
CREATED:20220921T205309Z
LAST-MODIFIED:20221103T080445Z
UID:3044-1667653200-1667691000@clone478.com
SUMMARY:Point Blank Ranges
DESCRIPTION:
URL:https://clone478.com/event/point-blank-ranges/
LOCATION:shaggys afterdark\, 115 Main E. Street\, Fort Valley\, GA\, 31030\, United States
CATEGORIES:Rap Battle
ATTACH;FMTTYPE=image/jpeg:https://clone478.com/wp-content/uploads/2022/09/IMG-9144.jpg
END:VEVENT
BEGIN:VEVENT
DTSTART;TZID=UTC:20220626T150000
DTEND;TZID=UTC:20220626T220000
DTSTAMP:20260419T151011
CREATED:20220519T124746Z
LAST-MODIFIED:20220519T124746Z
UID:3029-1656255600-1656280800@clone478.com
SUMMARY:ALL OUT WAR
DESCRIPTION:
URL:https://clone478.com/event/all-out-war/
LOCATION:millenium bar & grill\, 2455 Emery Hwy\, Macon\, GA\, 31217\, United States
END:VEVENT
BEGIN:VEVENT
DTSTART;VALUE=DATE:20220507
DTEND;VALUE=DATE:20220508
DTSTAMP:20260419T151011
CREATED:20220324T152557Z
LAST-MODIFIED:20220324T152557Z
UID:3007-1651881600-1651967999@clone478.com
SUMMARY:CLONE WARS
DESCRIPTION:
URL:https://clone478.com/event/clone-wars/
LOCATION:Rodeo event center\, 4655 Pio nono ave\, Macon\, GA\, 31212\, United States
CATEGORIES:Rap Battle
ATTACH;FMTTYPE=image/jpeg:https://clone478.com/wp-content/uploads/2022/03/56033.jpg
END:VEVENT
BEGIN:VEVENT
DTSTART;TZID=UTC:20220226T140000
DTEND;TZID=UTC:20220226T220000
DTSTAMP:20260419T151011
CREATED:20211230T071448Z
LAST-MODIFIED:20211230T071448Z
UID:2985-1645884000-1645912800@clone478.com
SUMMARY:WAR PATH (02/26/22)
DESCRIPTION:
URL:https://clone478.com/event/war-path-02-26-22/
LOCATION:GA
END:VEVENT
BEGIN:VEVENT
DTSTART;TZID=UTC:20210703T140000
DTEND;TZID=UTC:20210704T210000
DTSTAMP:20260419T151011
CREATED:20210519T051605Z
LAST-MODIFIED:20210519T165436Z
UID:1301-1625320800-1625432400@clone478.com
SUMMARY:Declaration of WAR
DESCRIPTION:
URL:https://clone478.com/event/declaration-of-war/
LOCATION:millenium bar & grill\, 2455 Emery Hwy\, Macon\, GA\, 31217\, United States
CATEGORIES:Rap Battle
ATTACH;FMTTYPE=image/png:https://clone478.com/wp-content/uploads/2021/05/IMG-5115.png
END:VEVENT
END:VCALENDAR